BEGIN:VCALENDAR
VERSION:2.0
PRODID:-//Mercado del Puerto - ECPv6.11.0.1//NONSGML v1.0//EN
CALSCALE:GREGORIAN
METHOD:PUBLISH
X-ORIGINAL-URL:https://mercadodelpuerto.net
X-WR-CALDESC:Eventos para Mercado del Puerto
REFRESH-INTERVAL;VALUE=DURATION:PT1H
X-Robots-Tag:noindex
X-PUBLISHED-TTL:PT1H
BEGIN:VTIMEZONE
TZID:UTC
BEGIN:STANDARD
TZOFFSETFROM:+0000
TZOFFSETTO:+0000
TZNAME:UTC
DTSTART:20250101T000000
END:STANDARD
END:VTIMEZONE
BEGIN:VEVENT
DTSTART;TZID=UTC:20251213T120000
DTEND;TZID=UTC:20251213T150000
DTSTAMP:20260421T210518
CREATED:20251124T104608Z
LAST-MODIFIED:20251124T104608Z
UID:2621-1765627200-1765638000@mercadodelpuerto.net
SUMMARY:Vive la Navidad más Gamberra
DESCRIPTION:Actividades infantiles:\nSábado 13 de Diciembre \n12:00 – Títeres: El hada de los Dientes \n13:00 – Villancicos con Zaida Jiménez
URL:https://mercadodelpuerto.net/evento/vive-la-navidad-mas-gamberra/
LOCATION:Mercado del Puerto\, C/ albareda 76\, Las Palmas\, Las Palmas de Gran Canaria\, 35008\, España
ATTACH;FMTTYPE=image/png:https://mercadodelpuerto.net/wp-content/uploads/2025/11/Sabado-13-de-Diciembre.png
END:VEVENT
BEGIN:VEVENT
DTSTART;TZID=UTC:20251220T120000
DTEND;TZID=UTC:20251220T150000
DTSTAMP:20260421T210518
CREATED:20251124T104827Z
LAST-MODIFIED:20251126T105135Z
UID:2624-1766232000-1766242800@mercadodelpuerto.net
SUMMARY:Vive la Navidad más Gamberra
DESCRIPTION:Actividades infantiles:\nSábado 20 de Diciembre \n12:00 – Títeres: El Dragón y la Mariposa \n13:00 – Villancicos con Joana Cerpa
URL:https://mercadodelpuerto.net/evento/vive-la-navidad-mas-gamberra-2/
LOCATION:Mercado del Puerto\, C/ albareda 76\, Las Palmas\, Las Palmas de Gran Canaria\, 35008\, España
END:VEVENT
BEGIN:VEVENT
DTSTART;TZID=UTC:20251227T120000
DTEND;TZID=UTC:20251227T150000
DTSTAMP:20260421T210518
CREATED:20251124T105115Z
LAST-MODIFIED:20251126T105225Z
UID:2627-1766836800-1766847600@mercadodelpuerto.net
SUMMARY:Vive la Navidad más Gamberra
DESCRIPTION:Actividades infantiles:\nSábado 27 de Diciembre \n12:00 – Títeres: El Panadero Generoso \n13:00 – Villancicos con Zaida Jiménez
URL:https://mercadodelpuerto.net/evento/vive-la-navidad-mas-gamberra-3/
LOCATION:Mercado del Puerto\, C/ albareda 76\, Las Palmas\, Las Palmas de Gran Canaria\, 35008\, España
ATTACH;FMTTYPE=image/png:https://mercadodelpuerto.net/wp-content/uploads/2025/11/Sabado-27-de-Diciembre-2.png
END:VEVENT
END:VCALENDAR